BEGIN:VCALENDAR
VERSION:2.0
PRODID:-//Second Helpings, Inc. - ECPv6.15.20//NONSGML v1.0//EN
CALSCALE:GREGORIAN
METHOD:PUBLISH
X-ORIGINAL-URL:https://www.secondhelpings.org
X-WR-CALDESC:Events for Second Helpings, Inc.
REFRESH-INTERVAL;VALUE=DURATION:PT1H
X-Robots-Tag:noindex
X-PUBLISHED-TTL:PT1H
BEGIN:VTIMEZONE
TZID:America/Indiana/Indianapolis
BEGIN:DAYLIGHT
TZOFFSETFROM:-0500
TZOFFSETTO:-0400
TZNAME:EDT
DTSTART:20220313T070000
END:DAYLIGHT
BEGIN:STANDARD
TZOFFSETFROM:-0400
TZOFFSETTO:-0500
TZNAME:EST
DTSTART:20221106T060000
END:STANDARD
BEGIN:DAYLIGHT
TZOFFSETFROM:-0500
TZOFFSETTO:-0400
TZNAME:EDT
DTSTART:20230312T070000
END:DAYLIGHT
BEGIN:STANDARD
TZOFFSETFROM:-0400
TZOFFSETTO:-0500
TZNAME:EST
DTSTART:20231105T060000
END:STANDARD
BEGIN:DAYLIGHT
TZOFFSETFROM:-0500
TZOFFSETTO:-0400
TZNAME:EDT
DTSTART:20240310T070000
END:DAYLIGHT
BEGIN:STANDARD
TZOFFSETFROM:-0400
TZOFFSETTO:-0500
TZNAME:EST
DTSTART:20241103T060000
END:STANDARD
END:VTIMEZONE
BEGIN:VEVENT
DTSTART;TZID=America/Indiana/Indianapolis:20230513T110000
DTEND;TZID=America/Indiana/Indianapolis:20230513T160000
DTSTAMP:20260425T232620
CREATED:20230428T175419Z
LAST-MODIFIED:20230501T201706Z
UID:10000087-1683975600-1683993600@www.secondhelpings.org
SUMMARY:2023 Asian Fest
DESCRIPTION:2023 Asian Fest\nHome / Events / Calendar / 2023 Asian Fest\n \nSecond Helpings will be at the 2023 Asian Fest\, held at the Indiana Historical Society! \nCelebrate Asian American Pacific Islander Heritage Month at this event\, to experience Asia’s culture\, arts\, food\, and more. There will be free health fairs and family-friendly activities. This event is free and welcomes all. \nEnjoy the event and stop by our table to learn more about Second Helpings! \nShare this event with your friends!\nDate: Saturday\, May 13\, 2023 \n\nTime: 11:00 am – 4:00 pm \n\nLocation: Indiana Historical Society: 450 W. Ohio Street\, Indianapolis\, IN 46202 \n\nEvent Website: aaalliance.org/asian-fest \nGet Tickets
URL:https://www.secondhelpings.org/event/2023-asian-fest/
LOCATION:Indiana Historical Society\, 450 W Ohio St\, Indianapolis\, IN\, 46202\, United States
ATTACH;FMTTYPE=image/jpeg:https://www.secondhelpings.org/wp-content/uploads/2023/04/AF2023-V3.jpg
ORGANIZER;CN="Asian American Alliance":MAILTO:indianapolisasianfest@gmail.com
END:VEVENT
END:VCALENDAR